BEGIN:VCALENDAR
VERSION:2.0
PRODID:-//No Cover Las Vegas Nightclubs And Day Parties - ECPv6.15.20//NONSGML v1.0//EN
CALSCALE:GREGORIAN
METHOD:PUBLISH
X-WR-CALNAME:No Cover Las Vegas Nightclubs And Day Parties
X-ORIGINAL-URL:https://nocoverlasvegasnightclubs.com
X-WR-CALDESC:Events for No Cover Las Vegas Nightclubs And Day Parties
REFRESH-INTERVAL;VALUE=DURATION:PT1H
X-Robots-Tag:noindex
X-PUBLISHED-TTL:PT1H
BEGIN:VTIMEZONE
TZID:America/Los_Angeles
BEGIN:DAYLIGHT
TZOFFSETFROM:-0800
TZOFFSETTO:-0700
TZNAME:PDT
DTSTART:20250309T100000
END:DAYLIGHT
BEGIN:STANDARD
TZOFFSETFROM:-0700
TZOFFSETTO:-0800
TZNAME:PST
DTSTART:20251102T090000
END:STANDARD
BEGIN:DAYLIGHT
TZOFFSETFROM:-0800
TZOFFSETTO:-0700
TZNAME:PDT
DTSTART:20260308T100000
END:DAYLIGHT
BEGIN:STANDARD
TZOFFSETFROM:-0700
TZOFFSETTO:-0800
TZNAME:PST
DTSTART:20261101T090000
END:STANDARD
BEGIN:DAYLIGHT
TZOFFSETFROM:-0800
TZOFFSETTO:-0700
TZNAME:PDT
DTSTART:20270314T100000
END:DAYLIGHT
BEGIN:STANDARD
TZOFFSETFROM:-0700
TZOFFSETTO:-0800
TZNAME:PST
DTSTART:20271107T090000
END:STANDARD
END:VTIMEZONE
BEGIN:VEVENT
DTSTART;TZID=America/Los_Angeles:20260424T220000
DTEND;TZID=America/Los_Angeles:20260425T040000
DTSTAMP:20260422T030629
CREATED:20260413T062925Z
LAST-MODIFIED:20260413T062925Z
UID:18542-1777068000-1777089600@nocoverlasvegasnightclubs.com
SUMMARY:Dom Dolla at LIV Nightclub Las Vegas – April 24\, 2026
DESCRIPTION:Dom Dolla at LIV Nightclub Las Vegas – April 24\, 2026\nFriday Night Party • Tech House • 21+ • Fontainebleau Las Vegas \nDom Dolla brings his signature tech house sound to LIV Nightclub Las Vegas inside Fontainebleau for one of the biggest electronic music parties of the weekend. For guests looking for a high-energy Friday night on the Strip\, this is one of the top nightlife experiences in Las Vegas. \nDom Dolla is one of the most in-demand DJs in the world\, known for sold-out shows\, festival headlining sets\, and a powerful presence in global nightlife. \nLooking for a free guest list in Las Vegas? LIV Nightclub delivers a premium nightlife experience with top-tier DJs\, high-end production\, and one of the best party atmospheres on the Strip. \nLIV Nightclub is one of the most popular nightclubs in Las Vegas\, known for hosting major electronic artists like Dom Dolla throughout the year. \nFriday night at LIV Nightclub is one of the best party nights in Las Vegas\, especially for guests looking for a top-tier DJ experience. \nThis event is one of the top things to do in Las Vegas on April 24\, 2026\, especially for guests looking for LIV Nightclub Las Vegas guest list access or VIP table reservations. \n\nFree Guest List Entry\nGet on the free guest list for Dom Dolla at LIV Nightclub Las Vegas. Entry is based on arrival time\, venue capacity\, and approval\, so early arrival is strongly recommended. \nGuest list entry is subject to venue capacity and dress code requirements. \n\nText Now for Free Guest List Entry\n \nVIP Table Reservations\nBook a VIP table at LIV Nightclub for guaranteed entry\, premium seating\, bottle service\, and the full luxury nightclub experience for your group. \n\nText Now for VIP Tables\n \n\nAbout Dom Dolla\nDom Dolla is one of the leading names in tech house music\, known for global hits\, festival appearances\, and sold-out club shows. His performances bring high energy and a dedicated crowd looking for a premium electronic music experience. \nAbout LIV Nightclub Las Vegas\nLIV Nightclub at Fontainebleau is one of the newest luxury nightlife venues in Las Vegas\, featuring high-end production\, top-tier DJs\, and an upscale crowd on the Strip. \nIf you’re looking for a tech house nightclub in Las Vegas\, LIV Nightclub delivers one of the best electronic music experiences in the city. \nLearn more here:\n\nLIV Nightclub Las Vegas\n \nAfter Party\nAfter LIV closes\, continue your night at Drai’s After Hours\, the longest running after hours club in Las Vegas. \n\nGo to Drai’s After Hours\n \nDom Dolla frequently performs at top venues like LIV Nightclub Las Vegas. Explore upcoming dates and similar electronic music events to plan your next night out. \nExplore more upcoming events:\n\nLas Vegas Nightclub Events
URL:https://nocoverlasvegasnightclubs.com/event/dom-dolla-liv-nightclub-las-vegas-april-24-2026/
LOCATION:LIV Nightclub Las Vegas\, 2777 S Las Vegas Blvd\, Las Vegas\, NV\, 89109\, United States
ATTACH;FMTTYPE=image/png:https://nocoverlasvegasnightclubs.com/wp-content/uploads/2026/04/dom-dolla-liv-nightclub-las-vegas.png
END:VEVENT
END:VCALENDAR